2.43840000
0.00000000
0.00000000
-2.43840000
437110.07786386
4664482.79159758
